BEGIN:VCALENDAR
VERSION:2.0
PRODID:SchoolNow
CALSCALE:GREGORIAN
BEGIN:VEVENT
UID:21512af2-4103-11ee-8b51-0a58a9feac02
DTSTAMP:20230822T164200Z
SUMMARY:Sudduth Parent Tech Night
DESCRIPTION:Join us for this come-and-go event to learn more about the tech
 nology devices and apps we use at Sudduth to enhance our students' learnin
 g! You'll experience our technology\, find out how to login at home and l
 earn important technology safety tips!\n\nParent Tech Night\nMonday\, Aug
 ust 28\n4:00pm - 6:00pm\nSudduth Cafeteria
LOCATION:Sudduth Cafeteria
URL;VALUE=URI:https://www.starkvillesd.com/calendar/4609938/sudduth-parent-
 tech-night
DTSTART:20230828T210000Z
DTEND:20230828T230000Z
END:VEVENT
END:VCALENDAR
