BEGIN:VCALENDAR
VERSION:2.0
PRODID:SchoolNow
CALSCALE:GREGORIAN
BEGIN:VEVENT
UID:7c8012da-4900-11ee-8df3-0ece54762e5b
DTSTAMP:20230901T194813Z
SUMMARY:Project PEACE: All My Money Financial Workshop
DESCRIPTION:SEPTEMBER 7\, 14\, 21 & 28\nALL MY MONEY Financial Workshop\nTh
 ursdays\n11:00am - 12:00pm \nDiscovery Center\n1504 Louisville Street - St
 arkville\, MS\n\nJoin us beginning September 7 for the Project PEACE All M
 y Money 4-week financial workshop! The All My Money: Change for the Better
  curriculum will help you better understand spending choices\, managing a 
 budget\, saving accounts\, and more! This hands on\, experimental approach
  encourages participates to learn from the activities and from each other.
  Please register to attend. If unable to make these dates and times work\,
  PEACE can accommodate your schedule and offer you one-on-one sessions!\n\
 nRegistration required and childcare provided with required paperwork.\n\n
 To register\, please contact Patrice Jackson Cajar at pjackson-cajar@stark
 villesd.com or call 662-615-0033.\n\nFunded by Mississippi Department of H
 uman Services
LOCATION:Discovery Center
URL;VALUE=URI:https://www.starkvillesd.com/calendar/4667590/project-peace-a
 ll-my-money-financial-workshop
DTSTART:20230907T160000Z
DTEND:20230907T170000Z
END:VEVENT
END:VCALENDAR
