BEGIN:VCALENDAR
VERSION:2.0
PRODID:SchoolNow
CALSCALE:GREGORIAN
BEGIN:VEVENT
UID:0f01ec0a-4906-11ee-acce-0a19e5eb34d3
DTSTAMP:20230901T202806Z
SUMMARY:Project Peace: Violation Vantage Guide to Effective Code Reporting
DESCRIPTION:SEPTEMBER 14\n\nVIOLATION VANTAGE: Guide to Effective Code Viol
 ation Reporting\nPresented by Starkville Police Department\n12:00am - 1:00
 pm \nDiscovery Center\n1504 Louisville Street - Starkville\, MS\n\nJoin 
 us on September 14 for our latest workshop hosted by Project PEACE and Pro
 ject REACH. Starkville Police Department staff will lead a workshop to le
 arn about the Starkville Unified Development Code\, what it means for St
 arkville residents\, and how to report code violations effectively. Meet S
 tarkville's Code Enforcement Officers\, get educational materials on the 
 reporting process\, and enjoy a light lunch!\n\nRegistration required and 
 childcare provided with required paperwork.\n\nTo register\, please contac
 t Elizabeth Williams at elwilliams@starkvillesd.com or call 662-615-0033.\
 n\nFunded by Mississippi Department of Human Services
LOCATION:Discovery Center
URL;VALUE=URI:https://www.starkvillesd.com/calendar/4667612/project-peace-v
 iolation-vantage-guide-to-effective-code-reporting
DTSTART:20230914T170000Z
DTEND:20230914T180000Z
END:VEVENT
END:VCALENDAR
