BEGIN:VCALENDAR
VERSION:2.0
PRODID:SchoolNow
CALSCALE:GREGORIAN
BEGIN:VEVENT
UID:38268ad4-4909-11ee-bd88-02b65f216555
DTSTAMP:20230901T205044Z
SUMMARY:Project PEACE: EMCC Info Session
DESCRIPTION:SEPTEMBER 21\n\nEMCC INFO SESSION\n11:00am - 1:00pm \nDiscover
 y Center\n1504 Louisville Street - Starkville\, MS\n\nEver thought about 
 pursing a technical career in areas such as Welding\, CNA\, HVAC\, Phlebot
 omy\, Pharmacy Tech\, CDL\, or Basic Manufacturing? Stop in between 1 PM a
 nd 3 PM on September 21 to speak with a representative from EMCC's workfor
 ce and development program. Find out if there is a career fit for you\, AN
 D if you qualify for a scholarship through Project PEACE!\n\nFor more info
 rmation\, contact Elizabeth Williams at 662.615.0033 or elwilliams@starkvi
 llesd.com\n\nFunded by Mississippi Department of Human Services
LOCATION:Discovery Center
URL;VALUE=URI:https://www.starkvillesd.com/calendar/4667617/project-peace-e
 mcc-info-session
DTSTART:20230921T160000Z
DTEND:20230921T180000Z
END:VEVENT
END:VCALENDAR
