BEGIN:VCALENDAR
VERSION:2.0
PRODID:SchoolNow
CALSCALE:GREGORIAN
BEGIN:VEVENT
UID:c4b4621c-528e-11ee-b83e-0a58a9feac02
DTSTAMP:20230913T233952Z
SUMMARY:Community Event: Sparking a Catalyst for Change with Principal Kafe
 le
LOCATION:Peter's Rock Family Worship Center COGIC
URL;VALUE=URI:https://www.starkvillesd.com/calendar/4733556/community-event
 -sparking-a-catalyst-for-change-with-principal-kafele
DTSTART:20230920T233000Z
DTEND:20230921T003000Z
END:VEVENT
END:VCALENDAR
