BEGIN:VCALENDAR
VERSION:2.0
PRODID:SchoolNow
CALSCALE:GREGORIAN
BEGIN:VEVENT
UID:d0f5a2ae-5322-11ee-9624-0292f1505fe5
DTSTAMP:20230914T171909Z
SUMMARY:FFA Fall Fest 2023
LOCATION:Starkville High School
URL;VALUE=URI:https://www.starkvillesd.com/calendar/4737214/ffa-fall-fest-2
 023
DTSTART:20231024T223000Z
DTEND:20231025T003000Z
END:VEVENT
END:VCALENDAR
