BEGIN:VCALENDAR
VERSION:2.0
PRODID:SchoolNow
CALSCALE:GREGORIAN
BEGIN:VEVENT
UID:60d4ff8c-594f-11ee-adc0-021785ed0d57
DTSTAMP:20230922T135315Z
SUMMARY:Mr & Miss SHS Coronation Ceremony
LOCATION:Greensboro Center
URL;VALUE=URI:https://www.starkvillesd.com/calendar/4778001/mr-miss-shs-cor
 onation-ceremony
DTSTART:20230923T230000Z
DTEND:20230923T233000Z
END:VEVENT
END:VCALENDAR
