BEGIN:VCALENDAR
VERSION:2.0
PRODID:SchoolNow
CALSCALE:GREGORIAN
BEGIN:VEVENT
UID:90b06618-6207-11ee-bf3e-0a58a9feac02
DTSTAMP:20231003T161152Z
SUMMARY:Project CARE: Cooking Matters 6-week class begins [registration req
 uired]
DESCRIPTION:OCTOBER 10\, 17\, 24\, 31\nNOVEMBER 7\, 14\n\n6-WEEK COOKING MA
 TTERS CLASS\nTuesdays\n9:30am - 11:30am \nDiscovery Center\n1504 Louisvil
 le Street - Starkville\, MS\n\nOur 6-week Cooking Matters class provided 
 by Mississippi State University Extension Service returns this Fall beginn
 ing on October 10! REGISTER NOW to learn skills and tips to help you confi
 dently provide meals your family will love AND help you make the most of y
 our budget! The class meets each Tuesday from October 10 through November 
 14\, 9:30am-11:30am.\n\nRegistration is required. TO REGISTER\, contact Ro
 y Ann Bell at 662.320.4607\n\nFunded by Mississippi Department of Child Pr
 otection Services
LOCATION:Discovery Center
URL;VALUE=URI:https://www.starkvillesd.com/calendar/4826242/project-care-co
 oking-matters-6-week-class-begins-registration-required
DTSTART:20231010T143000Z
DTEND:20231010T163000Z
END:VEVENT
END:VCALENDAR
