BEGIN:VCALENDAR
VERSION:2.0
PRODID:SchoolNow
CALSCALE:GREGORIAN
BEGIN:VEVENT
UID:1828fa72-620f-11ee-b667-02cedc338c99
DTSTAMP:20231003T170546Z
SUMMARY:Project PEACE: How to Best Communicate with your Partner
DESCRIPTION:OCTOBER 17\nHOW TO BEST COMMUNICATE WITH YOUR PARTNER\nPresente
 d by MSU Communications\n12:00am - 1:00pm \nDiscovery Center\n1504 Louisvi
 lle Street - Starkville\, MS\n\nAre you having trouble communicating with 
 your partner? Learn how to approach conflict or tough topics in healthier 
 ways: find new ways to be present in your relationship: and increase emoti
 onal satisfaction.\n\nRegistration required and childcare provided with re
 quired paperwork.\n\nTo register\, please contact Elizabeth Williams at el
 williams@starkvillesd.com or call 662-615-0033.\n\nFunded by Mississippi D
 epartment of Human Services
LOCATION:Discovery Center
URL;VALUE=URI:https://www.starkvillesd.com/calendar/4826253/project-peace-h
 ow-to-best-communicate-with-your-partner
DTSTART:20231017T170000Z
DTEND:20231017T180000Z
END:VEVENT
END:VCALENDAR
