BEGIN:VCALENDAR
VERSION:2.0
PRODID:SchoolNow
CALSCALE:GREGORIAN
BEGIN:VEVENT
UID:49eed7de-620f-11ee-896d-0a58a9feac02
DTSTAMP:20231003T170709Z
SUMMARY:Project PEACE: Tough Talks
DESCRIPTION:OCTOBER 24\nTOUGH TALKS\nPresented by MSU Communications\n12:00
 pm - 1:00pm \nDiscovery Center\n1504 Louisville Street - Starkville\, MS\n
 \nHave you ever struggled to know how to talk to your child? Have you ever
  struggled with how to address your child's challenging behavior? We will 
 discuss best parenting practices and effective techniques to approaching t
 ough topics with differently aged children. \n\nFor more information\, con
 tact Elizabeth Williams at 662.615.0033 or elwilliams@starkvillesd.com\n\n
 Funded by Mississippi Department of Human Services
LOCATION:Discovery Center
URL;VALUE=URI:https://www.starkvillesd.com/calendar/4826255/project-peace-t
 ough-talks
DTSTART:20231024T170000Z
DTEND:20231024T180000Z
END:VEVENT
END:VCALENDAR
