BEGIN:VCALENDAR
VERSION:2.0
PRODID:SchoolNow
CALSCALE:GREGORIAN
BEGIN:VEVENT
UID:6c88f400-620f-11ee-a8e2-0acd9ea49f0b
DTSTAMP:20231003T170808Z
SUMMARY:Project PEACE: Building your Blended Family
DESCRIPTION:OCTOBER 31\nBUILDING YOUR BLENDED FAMILY\nPresented by MSU Comm
 unications\n12:00pm - 1:00pm \nDiscovery Center\n1504 Louisville Street - 
 Starkville\, MS\n\nBlended and multi-generational families can be difficul
 t to navigate\, but they can also be very satisfying when there is healthy
  communication between family members. This workshop will focus on creatin
 g rituals to grow family togetherness. We will give you practical tools to
  grow and maintain the family bond.\n\nFor more information\, contact Eliz
 abeth Williams at 662.615.0033 or elwilliams@starkvillesd.com\n\nFunded by
  Mississippi Department of Human Services
LOCATION:Discovery Center
URL;VALUE=URI:https://www.starkvillesd.com/calendar/4826257/project-peace-b
 uilding-your-blended-family
DTSTART:20231031T170000Z
DTEND:20231031T180000Z
END:VEVENT
END:VCALENDAR
