BEGIN:VCALENDAR
VERSION:2.0
PRODID:SchoolNow
CALSCALE:GREGORIAN
BEGIN:VEVENT
UID:c5b11e62-6215-11ee-bf3f-0e21c6c8db91
DTSTAMP:20231003T175334Z
SUMMARY:Coffee with a Cop at Discovery Center
DESCRIPTION:Please join us for Coffee with a Cop\n\nTuesday\, October 17\n\
 n8:00am - 9:00am\n\nDiscovery Center at 1504 Louisville Street\n\nDon't mi
 ss this opportunity to get to know some of Starkville's finest!
LOCATION:Discovery Center
URL;VALUE=URI:https://www.starkvillesd.com/calendar/4826268/coffee-with-a-c
 op-at-discovery-center
DTSTART:20231017T130000Z
DTEND:20231017T140000Z
END:VEVENT
END:VCALENDAR
