BEGIN:VCALENDAR
VERSION:2.0
PRODID:SchoolNow
CALSCALE:GREGORIAN
BEGIN:VEVENT
UID:b21e0c6c-6219-11ee-8d81-0ac5ad864e25
DTSTAMP:20231003T182139Z
SUMMARY:Project CARE: Teen Parenting Class & Diaper Giveaway
DESCRIPTION:TEEN PARENTING CLASS & DIAPER GIVEAWAY\n5:30pm - 6:30pm \nDisco
 very Center\n1504 Louisville Street - Starkville\, MS\n\nUsing the Nurturi
 ng Skills for Teen Parents curriculum\, teenagers can learn how to navigat
 e their journey of parenthood. Plus\, attendees will receive free diapers!
 \n\nFor more information\, please contact Roy Ann Bell at rabell@starkvill
 esd.com or call 662-320-4607.\n\nFunded by Mississippi Department of Child
  Protection Services
LOCATION:Discovery Center
URL;VALUE=URI:https://www.starkvillesd.com/calendar/4826277/project-care-te
 en-parenting-class-diaper-giveaway
DTSTART:20231016T223000Z
DTEND:20231016T233000Z
END:VEVENT
END:VCALENDAR
