BEGIN:VCALENDAR
VERSION:2.0
PRODID:SchoolNow
CALSCALE:GREGORIAN
BEGIN:VEVENT
UID:c7a7479c-6219-11ee-86a5-0e21c6c8db91
DTSTAMP:20231003T182215Z
SUMMARY:Project CARE: Teen Parenting Class & Diaper Giveaway
DESCRIPTION:TEEN PARENTING CLASS & DIAPER GIVEAWAY\n5:30pm - 6:30pm \nDisco
 very Center\n1504 Louisville Street - Starkville\, MS\n\nUsing the Nurturi
 ng Skills for Teen Parents curriculum\, teenagers can learn how to navigat
 e their journey of parenthood. Plus\, attendees will receive free diapers!
 \n\nFor more information\, please contact Roy Ann Bell at rabell@starkvill
 esd.com or call 662-320-4607.\n\nFunded by Mississippi Department of Child
  Protection Services
LOCATION:Discovery Center
URL;VALUE=URI:https://www.starkvillesd.com/calendar/4826279/project-care-te
 en-parenting-class-diaper-giveaway-clone
DTSTART:20231023T223000Z
DTEND:20231023T233000Z
END:VEVENT
END:VCALENDAR
