BEGIN:VCALENDAR
VERSION:2.0
PRODID:SchoolNow
CALSCALE:GREGORIAN
BEGIN:VEVENT
UID:2644a848-621b-11ee-b319-0a58a9feac02
DTSTAMP:20231003T183204Z
SUMMARY:Project PEACE: Home Energy Workshop
DESCRIPTION:OCTOBER 18\nHOME ENERGY WORKSHOP\nPresented by TVA Energy Right
  and Starkville Utilities\n10:00am - 11:00am \nDiscovery Center\n1504 Lou
 isville Street - Starkville\, MS\n\nLooking for ways to save money on you
 r utility bills as we head into a cooler season? Join us for our free Home
  Energy Workshop on Wednesday\, October 18 presented in partnership with S
 tarkville Utilities and Tennessee Valley Authority. You'll learn easy DIY 
 no-cost or low-cost ways to save energy\, plus attendees receive a free Ho
 me Energy Starter Kit!\n\nRegistration is required and childcare provided 
 with required paperwork. To reserve your spot\, contact Elizabeth Williams
  at 662.615.0333 or elwilliams@starkvillesd.com\n\nFunded by Mississippi D
 epartment of Human Services
LOCATION:Discovery Center
URL;VALUE=URI:https://www.starkvillesd.com/calendar/4826629/project-peace-h
 ome-energy-workshop
DTSTART:20231018T150000Z
DTEND:20231018T160000Z
END:VEVENT
END:VCALENDAR
