BEGIN:VCALENDAR
VERSION:2.0
PRODID:SchoolNow
CALSCALE:GREGORIAN
BEGIN:VEVENT
UID:b8c5b41c-621d-11ee-89bc-0a9d765d54b1
DTSTAMP:20231003T185028Z
SUMMARY:Project PEACE: Unsolved Mysteries of the Cover Letter
DESCRIPTION:OCTOBER 19\nUNSOLVED MYSTERIES OF THE COVER LETTER\nWith Shenin
 a Brown\n10:00am - 11:00am\nDiscovery Center\n1504 Louisville Street - St
 arkville\, MS\n\nHave you ever wondered what a cover letter is\, what it c
 onsists of\, or why it is needed? At this workshop\, we will crack the cas
 e on this "unsolved mystery" and uncover the parts of a cover letter. You 
 will also have the opportunity to create one in person or schedule a priva
 te appointment for a later time. All participants will receive a free swag
  bag of PEACE items!\n\nFree childcare provided with needed paperwork.\n\n
 For more information\, contact Shenina Brown at 662.615.0033 or sbrown@sta
 rkvillesd.com\n\nFunded by Mississippi Department of Human Services
LOCATION:Discovery Center
URL;VALUE=URI:https://www.starkvillesd.com/calendar/4827612/project-peace-u
 nsolved-mysteries-of-the-cover-letter
DTSTART:20231019T150000Z
DTEND:20231019T160000Z
END:VEVENT
END:VCALENDAR
