BEGIN:VCALENDAR
VERSION:2.0
PRODID:SchoolNow
CALSCALE:GREGORIAN
BEGIN:VEVENT
UID:74f937d4-6706-11ee-b182-0a58a9feac02
DTSTAMP:20231010T004632Z
SUMMARY:Armstrong: School Picture Day
URL;VALUE=URI:https://www.starkvillesd.com/calendar/4848908/armstrong-schoo
 l-picture-day
DTSTART;VALUE=DATE:20231017
DTEND;VALUE=DATE:20231018
END:VEVENT
END:VCALENDAR
