BEGIN:VCALENDAR
VERSION:2.0
PRODID:SchoolNow
CALSCALE:GREGORIAN
BEGIN:VEVENT
UID:97d8817e-6706-11ee-b569-02245e8018b5
DTSTAMP:20231010T004731Z
SUMMARY:SHS: School Picture Day for 9th-11th graders
LOCATION:Starkville High School
URL;VALUE=URI:https://www.starkvillesd.com/calendar/4848909/school-picture-
 day-for-9th-11th-graders
DTSTART;VALUE=DATE:20231009
DTEND;VALUE=DATE:20231010
END:VEVENT
END:VCALENDAR
