BEGIN:VCALENDAR
VERSION:2.0
PRODID:SchoolNow
CALSCALE:GREGORIAN
BEGIN:VEVENT
UID:b58d237a-6777-11ee-ad1e-0a58a9feac02
DTSTAMP:20231010T141713Z
SUMMARY:First Responder Family Fun Night
DESCRIPTION:Join us in showing support for our community first responders a
 nd their families during the Project CARE First Responder Family Fun Night
 ! First responders and their families are invited to join us on Tuesday\, 
 October 24 from 5:30pm until 7:30pm for a night of fun\, food and fellowsh
 ip as we share our appreciation for the service you provide for our commun
 ity.\n\nThe public is invited to come out and meet our first responders an
 d share your appreciation!
LOCATION:Discovery Center
URL;VALUE=URI:https://www.starkvillesd.com/calendar/4850437/first-responder
 -family-fun-night
DTSTART:20231024T223000Z
DTEND:20231025T003000Z
END:VEVENT
END:VCALENDAR
