BEGIN:VCALENDAR
VERSION:2.0
PRODID:SchoolNow
CALSCALE:GREGORIAN
BEGIN:VEVENT
UID:caec9622-6df5-11ee-8e23-0a58a9feac02
DTSTAMP:20231018T203453Z
SUMMARY:Meet the Jackets: Winter Sports
DESCRIPTION:Opening Night for Winter sports... Join us for MEET THE JACKETS
  on Monday\, October 23 at 5:30pm in the @starkville_high Gym to meet our 
 athletes and celebrate a new season of excellence for Basketball\, Bowling
 \, Soccer & Wrestling!
LOCATION:Starkville High School Gym
URL;VALUE=URI:https://www.starkvillesd.com/calendar/4878732/meet-the-jacket
 s-winter-sports
DTSTART:20231023T223000Z
DTEND:20231023T233000Z
END:VEVENT
END:VCALENDAR
