BEGIN:VCALENDAR
VERSION:2.0
PRODID:SchoolNow
CALSCALE:GREGORIAN
BEGIN:VEVENT
UID:0a32665a-5764-11f0-a3a4-0a58a9feac02
DTSTAMP:20250702T164602Z
SUMMARY:Emerson: 2025-2026 Teacher Assignment Pickup
DESCRIPTION:Emerson Preschool\n\nFriday\, July 11\, 2025 & Monday\, July 
 14\, 2025\nTeacher Assignment Pickup\n7:00am - 5:00pm
LOCATION:Emerson Preschool
URL;VALUE=URI:https://www.starkvillesd.com/emerson-preschool/calendar/83775
 35/emerson-2025-2026-teacher-assignment-pickup
DTSTART:20250711T120000Z
DTEND:20250711T220000Z
END:VEVENT
END:VCALENDAR
