BEGIN:VCALENDAR
VERSION:2.0
PRODID:SchoolNow
CALSCALE:GREGORIAN
BEGIN:VEVENT
UID:3de01c18-5764-11f0-aa2c-0a58a9feac02
DTSTAMP:20250702T164729Z
SUMMARY:Emerson: 2025-2026 Open House
DESCRIPTION:Emerson Preschool\n\nThursday\, July 17\, 2025\nOpen House\n1:0
 0pm - 4:00pm \n\n*Make plans to join us for a required Parent Meeting on 
 July 17\, 2025 at 1:30pm or 3:30pm
LOCATION:Emerson Preschool
URL;VALUE=URI:https://www.starkvillesd.com/emerson-preschool/calendar/83775
 38/emerson-2025-2026-open-house
DTSTART:20250717T180000Z
DTEND:20250717T210000Z
END:VEVENT
END:VCALENDAR
