BEGIN:VCALENDAR
VERSION:2.0
PRODID:SchoolNow
CALSCALE:GREGORIAN
BEGIN:VEVENT
UID:2edd5692-10e0-11f0-babd-0a58a9feac02
DTSTAMP:20250403T230549Z
SUMMARY:Jacket Volleyball: High School Tryouts
URL;VALUE=URI:https://www.starkvillesd.com/starkville-high-school/calendar/
 7843755/starkville-high-school-volleyball-tryouts
DTSTART:20250416T213000Z
DTEND:20250416T233000Z
END:VEVENT
END:VCALENDAR
