BEGIN:VCALENDAR
VERSION:2.0
PRODID:SchoolNow
CALSCALE:GREGORIAN
BEGIN:VEVENT
UID:02241f2c-213a-11f0-ab24-0ebee07da5cb
DTSTAMP:20250424T182907Z
SUMMARY:Jacket Football Tryouts: Varsity (rising 10th-12th graders)
DESCRIPTION:Jacket Football Tryouts: Varsity\n(for rising 10th-12th graders
 )\nMonday\, April 28\n4:00pm\nSHS Football Field\n\nMust have physical upd
 ated in Dragonfly to tryout. Bring cleats.
LOCATION:SHS Football Field
URL;VALUE=URI:https://www.starkvillesd.com/starkville-high-school/calendar/
 7999307/jacket-football-tryouts-varsity-rising-10th-12th-graders
DTSTART:20250428T210000Z
DTEND:20250428T230000Z
END:VEVENT
END:VCALENDAR
