BEGIN:VCALENDAR
VERSION:2.0
PRODID:SchoolNow
CALSCALE:GREGORIAN
BEGIN:VEVENT
UID:865294f0-2143-11f0-a73f-0a58a9feac02
DTSTAMP:20250424T193714Z
SUMMARY:Jacket Girls Basketball Tryouts: Varsity (rising 10th-12th graders)
DESCRIPTION:Jacket Basketball Tryouts: Varsity Girls\n(for rising 10th-12th
  graders)\nMay 6 & May 8\n4:15pm - 6:15pm\nStarkville High Gym\n\nMust hav
 e physical updated in Dragonfly to tryout.
LOCATION:Starkville High Gym
URL;VALUE=URI:https://www.starkvillesd.com/starkville-high-school/calendar/
 8000834/jacket-girls-basketball-tryouts-varsity-rising-10th-12th-graders
DTSTART:20250506T211500Z
DTEND:20250506T231500Z
END:VEVENT
END:VCALENDAR
