BEGIN:VCALENDAR
VERSION:2.0
PRODID:SchoolNow
CALSCALE:GREGORIAN
BEGIN:VEVENT
UID:8fed3cc2-4ad8-11f0-a262-0a58a9feac02
DTSTAMP:20250616T173723Z
SUMMARY:Student Support Services Parent Input Meeting
LOCATION:Greensboro Center Room 12
URL;VALUE=URI:https://www.starkvillesd.com/starkville-high-school/calendar/
 8310006/student-support-services-parent-input-meeting
DTSTART:20250623T160000Z
DTEND:20250623T170000Z
END:VEVENT
END:VCALENDAR
