BEGIN:VCALENDAR
VERSION:2.0
PRODID:SchoolNow
CALSCALE:GREGORIAN
BEGIN:VEVENT
UID:954fbf1a-52de-11f0-b987-0affd2357b71
DTSTAMP:20250626T224038Z
SUMMARY:Jacket Football VS Louisville
DESCRIPTION:SHS VS Louisville (home)\n​​​​​​​September 19\n7:
 00pm\nYellow Jacket Stadium\nLive Stream: http://www.shsjackets.com\nRadio
 : Supertalk 100.9\n\nFor the full 2025 football schedule\, visit https://
 www.starkvillesd.com/athletics/football
LOCATION:Starkville High School
URL;VALUE=URI:https://www.starkvillesd.com/starkville-high-school/calendar/
 8358566/jacket-football-vs-oak-grove
DTSTART:20250920T000000Z
DTEND:20250920T030000Z
END:VEVENT
END:VCALENDAR
