BEGIN:VCALENDAR
VERSION:2.0
PRODID:SchoolNow
CALSCALE:GREGORIAN
BEGIN:VEVENT
UID:9cbe68aa-52de-11f0-8c1b-0a58a9feac02
DTSTAMP:20250626T224213Z
SUMMARY:Jacket Football AT Brandon
DESCRIPTION:SHS AT Brandon (away)\nSeptember 26\n7:00pm\nRadio: Supertalk 1
 00.9\n\nFor the full 2025 football schedule\, visit https://www.starkvill
 esd.com/athletics/football
LOCATION:Brandon High School
URL;VALUE=URI:https://www.starkvillesd.com/starkville-high-school/calendar/
 8358567/jacket-football-at-brandon
DTSTART:20250927T000000Z
DTEND:20250927T030000Z
END:VEVENT
END:VCALENDAR
