BEGIN:VCALENDAR
VERSION:2.0
PRODID:SchoolNow
CALSCALE:GREGORIAN
BEGIN:VEVENT
UID:f7fc78a6-52de-11f0-8d1d-0a58a9feac02
DTSTAMP:20250626T224324Z
SUMMARY:Jacket Football VS Clinton
DESCRIPTION:SHS VS Clinton (home)\nOctober 17\n7:00pm\nYellow Jacket Stadiu
 m\nLive Stream: http://www.shsjackets.com\nRadio: Supertalk 100.9\n\nFor t
 he full 2025 football schedule\, visit https://www.starkvillesd.com/athle
 tics/football
LOCATION:Starkville High School
URL;VALUE=URI:https://www.starkvillesd.com/starkville-high-school/calendar/
 8358570/jacket-football-vs-clinton
DTSTART:20251018T000000Z
DTEND:20251018T030000Z
END:VEVENT
END:VCALENDAR
