BEGIN:VCALENDAR
VERSION:2.0
PRODID:SchoolNow
CALSCALE:GREGORIAN
BEGIN:VEVENT
UID:4a1b0076-52df-11f0-aa53-0a58a9feac02
DTSTAMP:20250626T224542Z
SUMMARY:Jacket Football VS Madison Central (SENIOR NIGHT)
DESCRIPTION:HS VS Madison Central (home)\nSENIOR NIGHT\nOctober 31\n7:00pm
 \nYellow Jacket Stadium\nLive Stream: http://www.shsjackets.com\nRadio: Su
 pertalk 100.9\n\nFor the full 2025 football schedule\, visit https://www.
 starkvillesd.com/athletics/football
LOCATION:Starkville High School
URL;VALUE=URI:https://www.starkvillesd.com/starkville-high-school/calendar/
 8358713/jacket-football-vs-madison-central-senior-night
DTSTART:20251101T000000Z
DTEND:20251101T030000Z
END:VEVENT
END:VCALENDAR
