BEGIN:VCALENDAR
VERSION:2.0
PRODID:SchoolNow
CALSCALE:GREGORIAN
BEGIN:VEVENT
UID:886533d8-52df-11f0-babc-0affd2357b71
DTSTAMP:20250626T224726Z
SUMMARY:Jacket Football AT Oxford
DESCRIPTION:SHS AT Oxford (away)\nThursday\, November 6\n7:00pm\nRadio: Sup
 ertalk 100.9\n\nFor the full 2025 football schedule\, visit https://www.s
 tarkvillesd.com/athletics/football
LOCATION:Oxford High School
URL;VALUE=URI:https://www.starkvillesd.com/starkville-high-school/calendar/
 8358715/jacket-football-at-oxford
DTSTART:20251107T010000Z
DTEND:20251107T040000Z
END:VEVENT
END:VCALENDAR
