BEGIN:VCALENDAR
VERSION:2.0
PRODID:SchoolNow
CALSCALE:GREGORIAN
BEGIN:VEVENT
UID:ab25ea02-5767-11f0-9e3b-0a58a9feac02
DTSTAMP:20250702T171201Z
SUMMARY:SHS: Senior Parking Sign-up
DESCRIPTION:Monday\, July 14\, 2025\nSenior Parking Sign-up -- report to Mi
 llsaps to sign up\nSeniors should bring a valid driver's license\, proof o
 f insurance and cash\, check or money order for fees.\nClick to download S
 HS parking guidelines and form\n8:30am - 9:30am
LOCATION:Starkville High School
URL;VALUE=URI:https://www.starkvillesd.com/starkville-high-school/calendar/
 8377609/shs-senior-parking-sign-up
DTSTART:20250714T133000Z
DTEND:20250714T143000Z
END:VEVENT
END:VCALENDAR
