BEGIN:VCALENDAR
VERSION:2.0
PRODID:SchoolNow
CALSCALE:GREGORIAN
BEGIN:VEVENT
UID:daca3d9e-5767-11f0-bb6e-0a58a9feac02
DTSTAMP:20250702T171321Z
SUMMARY:SHS: 2025-2026 Schedule Pick-up -- Seniors
DESCRIPTION:Monday\, July 14\, 2025\nSchedule Pick-up\nSeniors: 9:30am - 11
 :30am
LOCATION:Starkville High School
URL;VALUE=URI:https://www.starkvillesd.com/starkville-high-school/calendar/
 8377612/shs-2025-2026-schedule-pick-up-seniors
DTSTART:20250714T143000Z
DTEND:20250714T163000Z
END:VEVENT
END:VCALENDAR
