BEGIN:VCALENDAR
VERSION:2.0
PRODID:SchoolNow
CALSCALE:GREGORIAN
BEGIN:VEVENT
UID:15646b64-5768-11f0-8ae9-0a58a9feac02
DTSTAMP:20250702T171459Z
SUMMARY:SHS: 2025-2026 Schedule Pick-up -- Juniors
DESCRIPTION:Monday\, July 14\, 2025\nSchedule Pick-up\nJuniors: 1:00pm - 3:
 00pm
LOCATION:Starkville High School
URL;VALUE=URI:https://www.starkvillesd.com/starkville-high-school/calendar/
 8377615/shs-2025-2026-schedule-pick-up-juniors
DTSTART:20250714T180000Z
DTEND:20250714T200000Z
END:VEVENT
END:VCALENDAR
