BEGIN:VCALENDAR
VERSION:2.0
PRODID:SchoolNow
CALSCALE:GREGORIAN
BEGIN:VEVENT
UID:50161776-5768-11f0-bde8-0a58a9feac02
DTSTAMP:20250702T171638Z
SUMMARY:SHS: 2025-2026 Schedule Pick-up -- Sophomores
DESCRIPTION:Tuesday\, July 15\, 2025\nSchedule Pick-up\nSophomores: 1:00pm 
 - 3:00pm
LOCATION:Starkville High School
URL;VALUE=URI:https://www.starkvillesd.com/starkville-high-school/calendar/
 8377618/shs-2025-2026-schedule-pick-up-sophomores
DTSTART:20250715T180000Z
DTEND:20250715T200000Z
END:VEVENT
END:VCALENDAR
