BEGIN:VCALENDAR
VERSION:2.0
PRODID:SchoolNow
CALSCALE:GREGORIAN
BEGIN:VEVENT
UID:68142552-aaba-11f0-8536-0afff8ccf667
DTSTAMP:20251016T180323Z
SUMMARY:Jacket Wrestling: Tryouts (for 7th-12th grade boys and girls)
DESCRIPTION:UPCOMING ATHLETIC TRYOUTS...
LOCATION:Partnership Middle School Gym
URL;VALUE=URI:https://www.starkvillesd.com/starkville-high-school/calendar/
 8727594/jacket-wrestling-tryouts-for-7th-12th-grade-boys-and-girls
DTSTART:20251020T220000Z
DTEND:20251020T233000Z
END:VEVENT
END:VCALENDAR
