BEGIN:VCALENDAR
VERSION:2.0
PRODID:SchoolNow
CALSCALE:GREGORIAN
BEGIN:VEVENT
UID:840295f2-aac2-11f0-9781-023f27808c3f
DTSTAMP:20251016T190126Z
SUMMARY:Mr and Miss SHS Coronation
DESCRIPTION:Mr and Miss SHS Coronation\nSaturday\, October 18\n6:00pm\nGree
 nsboro Auditorium\nJackets\, we hope you'll join us on Saturday\, October 
 18 at 6:00pm for our 2025 Mr and Miss SHS Coronation ceremony at Greensbor
 o Auditorium. During the event\, we will also crown Mr and Miss Armstrong 
 and Mr and Miss Partnership Middle School. You also may see a familiar fac
 e as emcee! Come out and let's kick off Homecoming Week with a little blin
 g!
LOCATION:Greensboro Auditorium
URL;VALUE=URI:https://www.starkvillesd.com/starkville-high-school/calendar/
 8727605/mr-and-miss-shs-coronation
DTSTART:20251018T230000Z
DTEND:20251019T000000Z
END:VEVENT
END:VCALENDAR
