BEGIN:VCALENDAR
VERSION:2.0
PRODID:SchoolNow
CALSCALE:GREGORIAN
BEGIN:VEVENT
UID:8538e768-bda6-11f0-8507-0e058de3dd31
DTSTAMP:20251109T195854Z
SUMMARY:Jacket Indoor Track & Field Girls Tryouts (for grades 9-12)
DESCRIPTION:Jacket Indoor Track & Field Tryouts\n(for 9th - 12th grade boys
  and girls)\nGIRLS:\nTuesday\, November 11\n4:00pm-5:30pm\nBOYS:\nWednesda
 y\, November 12\n1:45pm-3:30pm\nYellow Jacket Stadium Track\nA physical an
 d all forms should be complete in Dragonfly in order to participate in try
 outs.
LOCATION:SHS Track
URL;VALUE=URI:https://www.starkvillesd.com/starkville-high-school/calendar/
 8786465/jacket-indoor-track-field-girls-tryouts-for-grades-9-12
DTSTART:20251111T220000Z
DTEND:20251111T233000Z
END:VEVENT
END:VCALENDAR
