BEGIN:VCALENDAR
VERSION:2.0
PRODID:SchoolNow
CALSCALE:GREGORIAN
BEGIN:VEVENT
UID:c5858b46-f235-11f0-81f1-0e0325d27b43
DTSTAMP:20260115T171520Z
SUMMARY:Miss Yellow Jacket Pageant (Starkville High)
LOCATION:Greensboro Auditorium
URL;VALUE=URI:https://www.starkvillesd.com/starkville-high-school/calendar/
 8836684/miss-yellow-jacket-pageant-starkville-high
DTSTART:20260215T003000Z
DTEND:20260215T023000Z
END:VEVENT
END:VCALENDAR
