BEGIN:VCALENDAR
VERSION:2.0
PRODID:SchoolNow
CALSCALE:GREGORIAN
BEGIN:VEVENT
UID:5e342560-3448-11f1-8050-0e9167dfd171
DTSTAMP:20260409T191444Z
SUMMARY:Tryouts: High School Boys Basketball (for rising 10th-12th graders)
DESCRIPTION:Jacket High School Boys Basketball Tryouts\n(for rising 10th-12
 th grade boys)\nApril 29-30\nAfter school\nStarkville High Gym
LOCATION:SHS Gym
URL;VALUE=URI:https://www.starkvillesd.com/starkville-high-school/calendar/
 8982431/tryouts-high-school-boys-basketball-for-rising-10th-12th-graders
DTSTART:20260429T210000Z
DTEND:20260429T230000Z
END:VEVENT
END:VCALENDAR
