BEGIN:VCALENDAR
VERSION:2.0
PRODID:SchoolNow
CALSCALE:GREGORIAN
BEGIN:VEVENT
UID:6be49e52-3456-11f1-b126-0affc0f1d53d
DTSTAMP:20260409T205520Z
SUMMARY:Tryouts: Boys and Girls Golf Tryouts (for rising 9th-12th graders)
DESCRIPTION:Jacket Boys and Girls Golf Tryouts\n(for rising 9th-12th grader
 s)\nMay 12-13\nAfter school\nStarkville Country Club
LOCATION:Starkville Country Club
URL;VALUE=URI:https://www.starkvillesd.com/starkville-high-school/calendar/
 8982522/tryouts-boys-and-girls-golf-tryouts-for-rising-9th-12th-graders-cl
 one
DTSTART:20260513T210000Z
DTEND:20260513T230000Z
END:VEVENT
END:VCALENDAR
