BEGIN:VCALENDAR
VERSION:2.0
PRODID:SchoolNow
CALSCALE:GREGORIAN
BEGIN:VEVENT
UID:ce623020-b0ba-11ee-a3a5-0a58a9feac02
DTSTAMP:20240111T195126Z
SUMMARY:PreK Registration: Sudduth Elementary
DESCRIPTION:PreK Registration\nJanuary 30\, 31 & February 1\n9:00am - 1:00p
 m\nSudduth Elementary & West Elementary\nFor more information about how to
  register\, registration requirements and when acceptance will be announce
 d\, please visit https://www.starkvillesd.com/prek/sudduth-west-prek
LOCATION:Sudduth Elementary
URL;VALUE=URI:https://www.starkvillesd.com/sudduth-elementary/calendar/5140
 976/prek-registration-sudduth-elementary-clone-clone
DTSTART:20240201T150000Z
DTEND:20240201T190000Z
END:VEVENT
END:VCALENDAR
