BEGIN:VCALENDAR
VERSION:2.0
PRODID:SchoolNow
CALSCALE:GREGORIAN
BEGIN:VEVENT
UID:3ae42000-cc45-11ee-a4ab-02f7e786e133
DTSTAMP:20240215T210020Z
SUMMARY:Sudduth Elementary: Kindergarten Open House
LOCATION:Sudduth Elementary School
URL;VALUE=URI:https://www.starkvillesd.com/sudduth-elementary/calendar/5335
 453/sudduth-elementary-kindergarten-open-house
DTSTART:20240307T223000Z
DTEND:20240308T003000Z
END:VEVENT
END:VCALENDAR
