BEGIN:VCALENDAR
VERSION:2.0
PRODID:SchoolNow
CALSCALE:GREGORIAN
BEGIN:VEVENT
UID:3e4eb064-f5b4-11ee-894e-0affdac7174f
DTSTAMP:20240408T142818Z
SUMMARY:Sudduth First Grade Open House
DESCRIPTION:Join us for First Grade Open House at Sudduth Elementary\nThurs
 day\, April 11\n4:30pm - 6:00pm\n\nIf your child will be enrolled in first
  grade for the 2024-2025 school year\, we invite you to meet our teachers\
 , visit our classrooms and get a jumpstart on an excellent first grade yea
 r! The event will be come-and-go.
LOCATION:Sudduth Elementary
URL;VALUE=URI:https://www.starkvillesd.com/sudduth-elementary/calendar/5736
 025/sudduth-first-grade-open-house
DTSTART:20240411T213000Z
DTEND:20240411T230000Z
END:VEVENT
END:VCALENDAR
