BEGIN:VCALENDAR
VERSION:2.0
PRODID:SchoolNow
CALSCALE:GREGORIAN
BEGIN:VEVENT
UID:3573ef9e-f5b5-11ee-8011-0298559d8827
DTSTAMP:20240408T143512Z
SUMMARY:Sudduth Elementary Title I Parent Meeting
DESCRIPTION:Two opportunities to learn together during our Sudduth Title I 
 Parent Meetings. Stop by to find out how our school uses federal funds and
  offer your input on school needs.\n\nThursday\, April 11\n7:30am OR 5:30p
 m\n​​​​​​​Sudduth Auditorium
LOCATION:Sudduth Auditorium
URL;VALUE=URI:https://www.starkvillesd.com/sudduth-elementary/calendar/5737
 205/sudduth-elementary-title-i-parent-meeting
DTSTART:20240411T123000Z
DTEND:20240411T133000Z
END:VEVENT
END:VCALENDAR
