BEGIN:VCALENDAR
VERSION:2.0
PRODID:SchoolNow
CALSCALE:GREGORIAN
BEGIN:VEVENT
UID:3fce8b34-f5b5-11ee-9ab4-0ef927366aed
DTSTAMP:20240408T143530Z
SUMMARY:Sudduth Elementary Title I Parent Meeting
DESCRIPTION:Two opportunities to learn together during our Sudduth Title I 
 Parent Meetings. Stop by to find out how our school uses federal funds and
  offer your input on school needs.\n\nThursday\, April 11\n7:30am OR 5:30p
 m\n​​​​​​​Sudduth Auditorium
LOCATION:Sudduth Auditorium
URL;VALUE=URI:https://www.starkvillesd.com/sudduth-elementary/calendar/5737
 229/sudduth-elementary-title-i-parent-meeting-clone
DTSTART:20240411T223000Z
DTEND:20240411T233000Z
END:VEVENT
END:VCALENDAR
