BEGIN:VCALENDAR
VERSION:2.0
PRODID:SchoolNow
CALSCALE:GREGORIAN
BEGIN:VEVENT
UID:612a1916-2e80-11ef-abb3-0ee4af65b7c3
DTSTAMP:20240703T013350Z
SUMMARY:Sudduth Elementary: Teacher Assignment Pickup 2024-2025
LOCATION:Sudduth Elementary
URL;VALUE=URI:https://www.starkvillesd.com/sudduth-elementary/calendar/6144
 963/sudduth-elementary-teacher-assignment-pickup-2024-2025
DTSTART:20240715T120000Z
DTEND:20240715T170000Z
END:VEVENT
END:VCALENDAR
