BEGIN:VCALENDAR
VERSION:2.0
PRODID:SchoolNow
CALSCALE:GREGORIAN
BEGIN:VEVENT
UID:9dfdb168-2e80-11ef-b977-0ee16e82ab5f
DTSTAMP:20240715T180359Z
SUMMARY:Sudduth Elementary: Open House 2024-2025
DESCRIPTION:Sudduth Open House is by appointment only.\n\nParents may sign 
 up for an appointment during Teacher Assignment Pickup on July 15
LOCATION:Sudduth Elementary
URL;VALUE=URI:https://www.starkvillesd.com/sudduth-elementary/calendar/6144
 966/sudduth-elementary-open-house-2024-2025
DTSTART:20240719T130000Z
DTEND:20240719T170000Z
END:VEVENT
END:VCALENDAR
