BEGIN:VCALENDAR
VERSION:2.0
PRODID:SchoolNow
CALSCALE:GREGORIAN
BEGIN:VEVENT
UID:0ccb0314-cd20-11ef-adec-026345ee7965
DTSTAMP:20250107T175140Z
SUMMARY:Little Miss Sudduth Elementary (deadline Jan 17)
LOCATION:Greensboro Center
URL;VALUE=URI:https://www.starkvillesd.com/sudduth-elementary/calendar/7281
 460/miss-partnership-yellow-jacket-pageant-deadline-jan-17-clone-clone-clo
 ne
DTSTART:20250125T170000Z
DTEND:20250125T190000Z
END:VEVENT
END:VCALENDAR
