BEGIN:VCALENDAR
VERSION:2.0
PRODID:SchoolNow
CALSCALE:GREGORIAN
BEGIN:VEVENT
UID:1abbde08-cd20-11ef-b8c7-0a58a9feac02
DTSTAMP:20250107T175204Z
SUMMARY:Little Miss PreK Yellow Jacket Pageant (Sudduth\, West & Emerson - 
 deadline Jan 17)
LOCATION:Greensboro Center
URL;VALUE=URI:https://www.starkvillesd.com/sudduth-elementary/calendar/7281
 462/miss-partnership-yellow-jacket-pageant-deadline-jan-17-clone-clone
DTSTART:20250125T170000Z
DTEND:20250125T190000Z
END:VEVENT
END:VCALENDAR
